BEGIN:VCALENDAR
VERSION:2.0
PRODID:icalendar-ruby
CALSCALE:GREGORIAN
METHOD:PUBLISH
BEGIN:VEVENT
DTSTAMP:20260423T110950Z
UID:5-404118@ministerioevangelico.tithelysetup7.com
DTSTART:20261011T173000Z
DTEND:20261011T183000Z
CLASS:PUBLIC
CREATED:20260422T190032
DESCRIPTION:Sunday Worship
LAST-MODIFIED:20260422T190032
LOCATION:
SUMMARY:Sunday Worship
URL;VALUE=URI:https://ministerioevangelico.tithelysetup7.com/events/sunday-
 worship/2026-10-11
END:VEVENT
END:VCALENDAR
