BEGIN:VCALENDAR
VERSION:2.0
PRODID:icalendar-ruby
CALSCALE:GREGORIAN
METHOD:PUBLISH
BEGIN:VEVENT
DTSTAMP:20260423T155741Z
UID:5-404643@ministerioevangelico.tithelysetup7.com
DTSTART:20261101T183000Z
DTEND:20261101T193000Z
CLASS:PUBLIC
CREATED:20260423T072400
DESCRIPTION:Sunday Worship
LAST-MODIFIED:20260423T072400
LOCATION:
SUMMARY:Sunday Worship
URL;VALUE=URI:https://ministerioevangelico.tithelysetup7.com/events/sunday-
 worship/2026-11-01
END:VEVENT
END:VCALENDAR
